BEGIN:VCALENDAR
VERSION:2.0
PRODID:-//Pine Springs Preparatory Academy - ECPv6.15.12.2//NONSGML v1.0//EN
CALSCALE:GREGORIAN
METHOD:PUBLISH
X-WR-CALNAME:Pine Springs Preparatory Academy
X-ORIGINAL-URL:https://pinespringsprep.org
X-WR-CALDESC:Events for Pine Springs Preparatory Academy
REFRESH-INTERVAL;VALUE=DURATION:PT1H
X-Robots-Tag:noindex
X-PUBLISHED-TTL:PT1H
BEGIN:VTIMEZONE
TZID:America/New_York
BEGIN:DAYLIGHT
TZOFFSETFROM:-0500
TZOFFSETTO:-0400
TZNAME:EDT
DTSTART:20220313T070000
END:DAYLIGHT
BEGIN:STANDARD
TZOFFSETFROM:-0400
TZOFFSETTO:-0500
TZNAME:EST
DTSTART:20221106T060000
END:STANDARD
BEGIN:DAYLIGHT
TZOFFSETFROM:-0500
TZOFFSETTO:-0400
TZNAME:EDT
DTSTART:20230312T070000
END:DAYLIGHT
BEGIN:STANDARD
TZOFFSETFROM:-0400
TZOFFSETTO:-0500
TZNAME:EST
DTSTART:20231105T060000
END:STANDARD
BEGIN:DAYLIGHT
TZOFFSETFROM:-0500
TZOFFSETTO:-0400
TZNAME:EDT
DTSTART:20240310T070000
END:DAYLIGHT
BEGIN:STANDARD
TZOFFSETFROM:-0400
TZOFFSETTO:-0500
TZNAME:EST
DTSTART:20241103T060000
END:STANDARD
BEGIN:DAYLIGHT
TZOFFSETFROM:-0500
TZOFFSETTO:-0400
TZNAME:EDT
DTSTART:20250309T070000
END:DAYLIGHT
BEGIN:STANDARD
TZOFFSETFROM:-0400
TZOFFSETTO:-0500
TZNAME:EST
DTSTART:20251102T060000
END:STANDARD
END:VTIMEZONE
BEGIN:VEVENT
DTSTART;VALUE=DATE:20231019
DTEND;VALUE=DATE:20231021
DTSTAMP:20260419T093419
CREATED:20230912T170354Z
LAST-MODIFIED:20230912T171331Z
UID:16961-1697673600-1697846399@pinespringsprep.org
SUMMARY:Fall Break
DESCRIPTION:
URL:https://pinespringsprep.org/event/fall-break-2/
CATEGORIES:School Calendar
END:VEVENT
BEGIN:VEVENT
DTSTART;VALUE=DATE:20230915
DTEND;VALUE=DATE:20230916
DTSTAMP:20260419T093419
CREATED:20230831T173330Z
LAST-MODIFIED:20230831T173330Z
UID:16607-1694736000-1694822399@pinespringsprep.org
SUMMARY:Dress Down Day!
DESCRIPTION:It is a dress down day\, Pioneers.  Make sure to wear appropriate clothing as noted in our student handbook.
URL:https://pinespringsprep.org/event/dress-down-day-5/
CATEGORIES:School Calendar
END:VEVENT
BEGIN:VEVENT
DTSTART;VALUE=DATE:20231023
DTEND;VALUE=DATE:20231024
DTSTAMP:20260419T093419
CREATED:20230912T170503Z
LAST-MODIFIED:20230912T171307Z
UID:16963-1698019200-1698105599@pinespringsprep.org
SUMMARY:No School- Teacher Work Day
DESCRIPTION:
URL:https://pinespringsprep.org/event/no-school-teacher-work-day/
CATEGORIES:School Calendar
END:VEVENT
BEGIN:VEVENT
DTSTART;TZID=America/New_York:20231024T080000
DTEND;TZID=America/New_York:20231027T170000
DTSTAMP:20260419T093419
CREATED:20230912T170537Z
LAST-MODIFIED:20230912T171243Z
UID:16965-1698134400-1698426000@pinespringsprep.org
SUMMARY:Red Ribbon Week
DESCRIPTION:
URL:https://pinespringsprep.org/event/red-ribbon-week/
CATEGORIES:School Calendar
END:VEVENT
BEGIN:VEVENT
DTSTART;VALUE=DATE:20231027
DTEND;VALUE=DATE:20231028
DTSTAMP:20260419T093419
CREATED:20230912T171845Z
LAST-MODIFIED:20230912T172053Z
UID:16976-1698364800-1698451199@pinespringsprep.org
SUMMARY:End of Quarter 1
DESCRIPTION:
URL:https://pinespringsprep.org/event/end-of-quarter-1/
CATEGORIES:School Calendar
END:VEVENT
BEGIN:VEVENT
DTSTART;VALUE=DATE:20231027
DTEND;VALUE=DATE:20231028
DTSTAMP:20260419T093419
CREATED:20230912T171223Z
LAST-MODIFIED:20230912T171223Z
UID:16967-1698364800-1698451199@pinespringsprep.org
SUMMARY:Middle School Block Party
DESCRIPTION:
URL:https://pinespringsprep.org/event/middle-school-block-party/
CATEGORIES:School Calendar
END:VEVENT
BEGIN:VEVENT
DTSTART;VALUE=DATE:20230901
DTEND;VALUE=DATE:20230902
DTSTAMP:20260419T093419
CREATED:20230831T172536Z
LAST-MODIFIED:20230831T172651Z
UID:16599-1693526400-1693612799@pinespringsprep.org
SUMMARY:Spirit Wear Day!
DESCRIPTION:Show your spirit\, Pioneers! Level Up!
URL:https://pinespringsprep.org/event/spirit-wear-day-4/
CATEGORIES:School Calendar
END:VEVENT
BEGIN:VEVENT
DTSTART;VALUE=DATE:20231108
DTEND;VALUE=DATE:20231109
DTSTAMP:20260419T093419
CREATED:20230912T171507Z
LAST-MODIFIED:20230912T171507Z
UID:16969-1699401600-1699487999@pinespringsprep.org
SUMMARY:9:00 a.m. Veteran's Day Breakfast (Middle School Gym)
DESCRIPTION:
URL:https://pinespringsprep.org/event/900-a-m-veterans-day-breakfast-middle-school-gym/
CATEGORIES:School Calendar
END:VEVENT
BEGIN:VEVENT
DTSTART;VALUE=DATE:20231110
DTEND;VALUE=DATE:20231111
DTSTAMP:20260419T093419
CREATED:20230912T171610Z
LAST-MODIFIED:20230912T173149Z
UID:16971-1699574400-1699660799@pinespringsprep.org
SUMMARY:School Holiday-Veteran's Day Observed
DESCRIPTION:
URL:https://pinespringsprep.org/event/veterans-day-observed/
CATEGORIES:School Calendar
END:VEVENT
BEGIN:VEVENT
DTSTART;VALUE=DATE:20230915
DTEND;VALUE=DATE:20230916
DTSTAMP:20260419T093419
CREATED:20230831T173330Z
LAST-MODIFIED:20230831T173330Z
UID:16607-1694736000-1694822399@pinespringsprep.org
SUMMARY:Dress Down Day!
DESCRIPTION:It is a dress down day\, Pioneers.  Make sure to wear appropriate clothing as noted in our student handbook.
URL:https://pinespringsprep.org/event/dress-down-day-5/
CATEGORIES:School Calendar
END:VEVENT
BEGIN:VEVENT
DTSTART;TZID=America/New_York:20231122T080000
DTEND;TZID=America/New_York:20231124T170000
DTSTAMP:20260419T093419
CREATED:20230912T171726Z
LAST-MODIFIED:20230912T171805Z
UID:16974-1700640000-1700845200@pinespringsprep.org
SUMMARY:Thanksgiving Break
DESCRIPTION:
URL:https://pinespringsprep.org/event/thanksgiving-break-2/
CATEGORIES:School Calendar
END:VEVENT
BEGIN:VEVENT
DTSTART;VALUE=DATE:20230901
DTEND;VALUE=DATE:20230902
DTSTAMP:20260419T093419
CREATED:20230831T172536Z
LAST-MODIFIED:20230831T172651Z
UID:16599-1693526400-1693612799@pinespringsprep.org
SUMMARY:Spirit Wear Day!
DESCRIPTION:Show your spirit\, Pioneers! Level Up!
URL:https://pinespringsprep.org/event/spirit-wear-day-4/
CATEGORIES:School Calendar
END:VEVENT
BEGIN:VEVENT
DTSTART;VALUE=DATE:20231201
DTEND;VALUE=DATE:20231202
DTSTAMP:20260419T093419
CREATED:20230912T171938Z
LAST-MODIFIED:20230912T171938Z
UID:16978-1701388800-1701475199@pinespringsprep.org
SUMMARY:Mid-Term Quarter 2
DESCRIPTION:
URL:https://pinespringsprep.org/event/mid-term-quarter-2/
CATEGORIES:School Calendar
END:VEVENT
BEGIN:VEVENT
DTSTART;VALUE=DATE:20231213
DTEND;VALUE=DATE:20231214
DTSTAMP:20260419T093419
CREATED:20230912T172309Z
LAST-MODIFIED:20230912T172309Z
UID:16980-1702425600-1702511999@pinespringsprep.org
SUMMARY:6 p.m. Band-Chorus Concert- MS
DESCRIPTION:
URL:https://pinespringsprep.org/event/6-p-m-band-chorus-concert-ms/
CATEGORIES:School Calendar
END:VEVENT
BEGIN:VEVENT
DTSTART;VALUE=DATE:20230915
DTEND;VALUE=DATE:20230916
DTSTAMP:20260419T093419
CREATED:20230831T173330Z
LAST-MODIFIED:20230831T173330Z
UID:16607-1694736000-1694822399@pinespringsprep.org
SUMMARY:Dress Down Day!
DESCRIPTION:It is a dress down day\, Pioneers.  Make sure to wear appropriate clothing as noted in our student handbook.
URL:https://pinespringsprep.org/event/dress-down-day-5/
CATEGORIES:School Calendar
END:VEVENT
BEGIN:VEVENT
DTSTART;VALUE=DATE:20231220
DTEND;VALUE=DATE:20231221
DTSTAMP:20260419T093419
CREATED:20230912T172347Z
LAST-MODIFIED:20230912T172347Z
UID:16982-1703030400-1703116799@pinespringsprep.org
SUMMARY:Half Day of School (Holiday Break)
DESCRIPTION:
URL:https://pinespringsprep.org/event/half-day-of-school-holiday-break/
CATEGORIES:School Calendar
END:VEVENT
BEGIN:VEVENT
DTSTART;VALUE=DATE:20231221
DTEND;VALUE=DATE:20240103
DTSTAMP:20260419T093419
CREATED:20231117T222028Z
LAST-MODIFIED:20231117T222243Z
UID:17378-1703116800-1704239999@pinespringsprep.org
SUMMARY:Winter Break
DESCRIPTION:
URL:https://pinespringsprep.org/event/winter-break/
CATEGORIES:School Calendar
END:VEVENT
BEGIN:VEVENT
DTSTART;VALUE=DATE:20230901
DTEND;VALUE=DATE:20230902
DTSTAMP:20260419T093419
CREATED:20230831T172536Z
LAST-MODIFIED:20230831T172651Z
UID:16599-1693526400-1693612799@pinespringsprep.org
SUMMARY:Spirit Wear Day!
DESCRIPTION:Show your spirit\, Pioneers! Level Up!
URL:https://pinespringsprep.org/event/spirit-wear-day-4/
CATEGORIES:School Calendar
END:VEVENT
BEGIN:VEVENT
DTSTART;VALUE=DATE:20230915
DTEND;VALUE=DATE:20230916
DTSTAMP:20260419T093419
CREATED:20230831T173330Z
LAST-MODIFIED:20230831T173330Z
UID:16607-1694736000-1694822399@pinespringsprep.org
SUMMARY:Dress Down Day!
DESCRIPTION:It is a dress down day\, Pioneers.  Make sure to wear appropriate clothing as noted in our student handbook.
URL:https://pinespringsprep.org/event/dress-down-day-5/
CATEGORIES:School Calendar
END:VEVENT
BEGIN:VEVENT
DTSTART;VALUE=DATE:20230901
DTEND;VALUE=DATE:20230902
DTSTAMP:20260419T093419
CREATED:20230831T172536Z
LAST-MODIFIED:20230831T172651Z
UID:16599-1693526400-1693612799@pinespringsprep.org
SUMMARY:Spirit Wear Day!
DESCRIPTION:Show your spirit\, Pioneers! Level Up!
URL:https://pinespringsprep.org/event/spirit-wear-day-4/
CATEGORIES:School Calendar
END:VEVENT
BEGIN:VEVENT
DTSTART;VALUE=DATE:20230915
DTEND;VALUE=DATE:20230916
DTSTAMP:20260419T093419
CREATED:20230831T173330Z
LAST-MODIFIED:20230831T173330Z
UID:16607-1694736000-1694822399@pinespringsprep.org
SUMMARY:Dress Down Day!
DESCRIPTION:It is a dress down day\, Pioneers.  Make sure to wear appropriate clothing as noted in our student handbook.
URL:https://pinespringsprep.org/event/dress-down-day-5/
CATEGORIES:School Calendar
END:VEVENT
BEGIN:VEVENT
DTSTART;VALUE=DATE:20230901
DTEND;VALUE=DATE:20230902
DTSTAMP:20260419T093419
CREATED:20230831T172536Z
LAST-MODIFIED:20230831T172651Z
UID:16599-1693526400-1693612799@pinespringsprep.org
SUMMARY:Spirit Wear Day!
DESCRIPTION:Show your spirit\, Pioneers! Level Up!
URL:https://pinespringsprep.org/event/spirit-wear-day-4/
CATEGORIES:School Calendar
END:VEVENT
BEGIN:VEVENT
DTSTART;VALUE=DATE:20230915
DTEND;VALUE=DATE:20230916
DTSTAMP:20260419T093419
CREATED:20230831T173330Z
LAST-MODIFIED:20230831T173330Z
UID:16607-1694736000-1694822399@pinespringsprep.org
SUMMARY:Dress Down Day!
DESCRIPTION:It is a dress down day\, Pioneers.  Make sure to wear appropriate clothing as noted in our student handbook.
URL:https://pinespringsprep.org/event/dress-down-day-5/
CATEGORIES:School Calendar
END:VEVENT
BEGIN:VEVENT
DTSTART;VALUE=DATE:20230901
DTEND;VALUE=DATE:20230902
DTSTAMP:20260419T093419
CREATED:20230831T172536Z
LAST-MODIFIED:20230831T172651Z
UID:16599-1693526400-1693612799@pinespringsprep.org
SUMMARY:Spirit Wear Day!
DESCRIPTION:Show your spirit\, Pioneers! Level Up!
URL:https://pinespringsprep.org/event/spirit-wear-day-4/
CATEGORIES:School Calendar
END:VEVENT
BEGIN:VEVENT
DTSTART;VALUE=DATE:20230915
DTEND;VALUE=DATE:20230916
DTSTAMP:20260419T093419
CREATED:20230831T173330Z
LAST-MODIFIED:20230831T173330Z
UID:16607-1694736000-1694822399@pinespringsprep.org
SUMMARY:Dress Down Day!
DESCRIPTION:It is a dress down day\, Pioneers.  Make sure to wear appropriate clothing as noted in our student handbook.
URL:https://pinespringsprep.org/event/dress-down-day-5/
CATEGORIES:School Calendar
END:VEVENT
BEGIN:VEVENT
DTSTART;VALUE=DATE:20230901
DTEND;VALUE=DATE:20230902
DTSTAMP:20260419T093419
CREATED:20230831T172536Z
LAST-MODIFIED:20230831T172651Z
UID:16599-1693526400-1693612799@pinespringsprep.org
SUMMARY:Spirit Wear Day!
DESCRIPTION:Show your spirit\, Pioneers! Level Up!
URL:https://pinespringsprep.org/event/spirit-wear-day-4/
CATEGORIES:School Calendar
END:VEVENT
BEGIN:VEVENT
DTSTART;VALUE=DATE:20230915
DTEND;VALUE=DATE:20230916
DTSTAMP:20260419T093419
CREATED:20230831T173330Z
LAST-MODIFIED:20230831T173330Z
UID:16607-1694736000-1694822399@pinespringsprep.org
SUMMARY:Dress Down Day!
DESCRIPTION:It is a dress down day\, Pioneers.  Make sure to wear appropriate clothing as noted in our student handbook.
URL:https://pinespringsprep.org/event/dress-down-day-5/
CATEGORIES:School Calendar
END:VEVENT
END:VCALENDAR