BEGIN:VCALENDAR
VERSION:2.0
PRODID:-//Pine Springs Preparatory Academy - ECPv6.15.12.2//NONSGML v1.0//EN
CALSCALE:GREGORIAN
METHOD:PUBLISH
X-WR-CALNAME:Pine Springs Preparatory Academy
X-ORIGINAL-URL:https://pinespringsprep.org
X-WR-CALDESC:Events for Pine Springs Preparatory Academy
REFRESH-INTERVAL;VALUE=DURATION:PT1H
X-Robots-Tag:noindex
X-PUBLISHED-TTL:PT1H
BEGIN:VTIMEZONE
TZID:America/New_York
BEGIN:DAYLIGHT
TZOFFSETFROM:-0500
TZOFFSETTO:-0400
TZNAME:EDT
DTSTART:20210314T070000
END:DAYLIGHT
BEGIN:STANDARD
TZOFFSETFROM:-0400
TZOFFSETTO:-0500
TZNAME:EST
DTSTART:20211107T060000
END:STANDARD
BEGIN:DAYLIGHT
TZOFFSETFROM:-0500
TZOFFSETTO:-0400
TZNAME:EDT
DTSTART:20220313T070000
END:DAYLIGHT
BEGIN:STANDARD
TZOFFSETFROM:-0400
TZOFFSETTO:-0500
TZNAME:EST
DTSTART:20221106T060000
END:STANDARD
BEGIN:DAYLIGHT
TZOFFSETFROM:-0500
TZOFFSETTO:-0400
TZNAME:EDT
DTSTART:20230312T070000
END:DAYLIGHT
BEGIN:STANDARD
TZOFFSETFROM:-0400
TZOFFSETTO:-0500
TZNAME:EST
DTSTART:20231105T060000
END:STANDARD
END:VTIMEZONE
BEGIN:VEVENT
DTSTART;TZID=America/New_York:20220822T140000
DTEND;TZID=America/New_York:20220822T163000
DTSTAMP:20260419T124122
CREATED:20220815T194301Z
LAST-MODIFIED:20220815T214529Z
UID:13236-1661176800-1661185800@pinespringsprep.org
SUMMARY:August Regular Board Meeting
DESCRIPTION:There will be no regular Board Meeting on August 22nd. The new date for the regular meeting of the Board will be August 29 at 6:00pm at the K-5 building on Rosewood.
URL:https://pinespringsprep.org/event/august-regular-board-meeting/
CATEGORIES:School Calendar
END:VEVENT
BEGIN:VEVENT
DTSTART;VALUE=DATE:20220821
DTEND;VALUE=DATE:20220823
DTSTAMP:20260419T124122
CREATED:20220812T195936Z
LAST-MODIFIED:20220812T195936Z
UID:13091-1661112000-1661198399@pinespringsprep.org
SUMMARY:MS Schedule Walk Through
DESCRIPTION:
URL:https://pinespringsprep.org/event/ms-schedule-walk-through/
CATEGORIES:School Calendar
END:VEVENT
BEGIN:VEVENT
DTSTART;VALUE=DATE:20220821
DTEND;VALUE=DATE:20220823
DTSTAMP:20260419T124122
CREATED:20220812T194244Z
LAST-MODIFIED:20220812T194314Z
UID:13073-1661112000-1661198399@pinespringsprep.org
SUMMARY:K-5 Open House (4:00-6:00) at Rosewood
DESCRIPTION:
URL:https://pinespringsprep.org/event/k-5-open-house-400-600-at-rosewood/
CATEGORIES:School Calendar
END:VEVENT
BEGIN:VEVENT
DTSTART;VALUE=DATE:20220616
DTEND;VALUE=DATE:20220618
DTSTAMP:20260419T124122
CREATED:20220428T181033Z
LAST-MODIFIED:20220428T181033Z
UID:12523-1655409600-1655495999@pinespringsprep.org
SUMMARY:PSPA Offices are Closed
DESCRIPTION:The PSPA Offices at Rosewood and Main Street are closed today.
URL:https://pinespringsprep.org/event/pspa-offices-are-closed/
CATEGORIES:School Calendar
END:VEVENT
BEGIN:VEVENT
DTSTART;VALUE=DATE:20220616
DTEND;VALUE=DATE:20220618
DTSTAMP:20260419T124122
CREATED:20220428T181033Z
LAST-MODIFIED:20220428T181033Z
UID:12523-1655409600-1655495999@pinespringsprep.org
SUMMARY:PSPA Offices are Closed
DESCRIPTION:The PSPA Offices at Rosewood and Main Street are closed today.
URL:https://pinespringsprep.org/event/pspa-offices-are-closed/
CATEGORIES:School Calendar
END:VEVENT
BEGIN:VEVENT
DTSTART;VALUE=DATE:20220616
DTEND;VALUE=DATE:20220618
DTSTAMP:20260419T124122
CREATED:20220428T181033Z
LAST-MODIFIED:20220428T181033Z
UID:12523-1655409600-1655495999@pinespringsprep.org
SUMMARY:PSPA Offices are Closed
DESCRIPTION:The PSPA Offices at Rosewood and Main Street are closed today.
URL:https://pinespringsprep.org/event/pspa-offices-are-closed/
CATEGORIES:School Calendar
END:VEVENT
BEGIN:VEVENT
DTSTART;VALUE=DATE:20220616
DTEND;VALUE=DATE:20220618
DTSTAMP:20260419T124122
CREATED:20220428T181033Z
LAST-MODIFIED:20220428T181033Z
UID:12523-1655409600-1655495999@pinespringsprep.org
SUMMARY:PSPA Offices are Closed
DESCRIPTION:The PSPA Offices at Rosewood and Main Street are closed today.
URL:https://pinespringsprep.org/event/pspa-offices-are-closed/
CATEGORIES:School Calendar
END:VEVENT
BEGIN:VEVENT
DTSTART;VALUE=DATE:20220703
DTEND;VALUE=DATE:20220705
DTSTAMP:20260419T124122
CREATED:20220426T195100Z
LAST-MODIFIED:20220426T195323Z
UID:12331-1656878400-1656964799@pinespringsprep.org
SUMMARY:PSPA Offices Closed in Observance of the July 4th Holiday
DESCRIPTION:
URL:https://pinespringsprep.org/event/pspa-offices-closed/
CATEGORIES:School Calendar
END:VEVENT
BEGIN:VEVENT
DTSTART;VALUE=DATE:20220616
DTEND;VALUE=DATE:20220618
DTSTAMP:20260419T124122
CREATED:20220428T181033Z
LAST-MODIFIED:20220428T181033Z
UID:12523-1655409600-1655495999@pinespringsprep.org
SUMMARY:PSPA Offices are Closed
DESCRIPTION:The PSPA Offices at Rosewood and Main Street are closed today.
URL:https://pinespringsprep.org/event/pspa-offices-are-closed/
CATEGORIES:School Calendar
END:VEVENT
BEGIN:VEVENT
DTSTART;TZID=America/New_York:20220627T140000
DTEND;TZID=America/New_York:20220627T170000
DTSTAMP:20260419T124122
CREATED:20220426T220637Z
LAST-MODIFIED:20220426T220637Z
UID:12355-1656338400-1656349200@pinespringsprep.org
SUMMARY:Board of Directors Regular Meeting
DESCRIPTION:The Board of Directors Mtg. with be held at 6 p.m. at our Rosewood Location.
URL:https://pinespringsprep.org/event/board-of-directors-regular-meeting-2/
CATEGORIES:Board Calendar
END:VEVENT
BEGIN:VEVENT
DTSTART;VALUE=DATE:20220616
DTEND;VALUE=DATE:20220618
DTSTAMP:20260419T124122
CREATED:20220428T181033Z
LAST-MODIFIED:20220428T181033Z
UID:12523-1655409600-1655495999@pinespringsprep.org
SUMMARY:PSPA Offices are Closed
DESCRIPTION:The PSPA Offices at Rosewood and Main Street are closed today.
URL:https://pinespringsprep.org/event/pspa-offices-are-closed/
CATEGORIES:School Calendar
END:VEVENT
BEGIN:VEVENT
DTSTART;VALUE=DATE:20220616
DTEND;VALUE=DATE:20220618
DTSTAMP:20260419T124122
CREATED:20220428T181033Z
LAST-MODIFIED:20220428T181033Z
UID:12523-1655409600-1655495999@pinespringsprep.org
SUMMARY:PSPA Offices are Closed
DESCRIPTION:The PSPA Offices at Rosewood and Main Street are closed today.
URL:https://pinespringsprep.org/event/pspa-offices-are-closed/
CATEGORIES:School Calendar
END:VEVENT
BEGIN:VEVENT
DTSTART;VALUE=DATE:20220608
DTEND;VALUE=DATE:20220610
DTSTAMP:20260419T124122
CREATED:20220426T221659Z
LAST-MODIFIED:20220426T221659Z
UID:12359-1654718400-1654804799@pinespringsprep.org
SUMMARY:Last Day of the 2021-2022 School Term
DESCRIPTION:
URL:https://pinespringsprep.org/event/last-day-of-the-2021-2022-school-term/
CATEGORIES:School Calendar
END:VEVENT
BEGIN:VEVENT
DTSTART;VALUE=DATE:20220607
DTEND;VALUE=DATE:20220609
DTSTAMP:20260419T124122
CREATED:20220427T162033Z
LAST-MODIFIED:20220427T220424Z
UID:12388-1654632000-1654718399@pinespringsprep.org
SUMMARY:8th Grade Promotion
DESCRIPTION:Join our PSPA community as we celebrate our 8th Grade students in their Promotion Ceremony!  More details to come!
URL:https://pinespringsprep.org/event/8th-grade-promotion/
CATEGORIES:School Calendar
END:VEVENT
BEGIN:VEVENT
DTSTART;VALUE=DATE:20220607
DTEND;VALUE=DATE:20220609
DTSTAMP:20260419T124122
CREATED:20220427T161840Z
LAST-MODIFIED:20220427T161840Z
UID:12386-1654632000-1654718399@pinespringsprep.org
SUMMARY:5th Grade Moving Up Ceremony
DESCRIPTION:Join our PSPA community as we celebrate our 5th Grade students in their Moving Up Ceremony!  More details to come!
URL:https://pinespringsprep.org/event/5th-grade-moving-up-ceremony/
CATEGORIES:School Calendar
END:VEVENT
BEGIN:VEVENT
DTSTART;VALUE=DATE:20220607
DTEND;VALUE=DATE:20220609
DTSTAMP:20260419T124122
CREATED:20220427T161110Z
LAST-MODIFIED:20220427T161637Z
UID:12384-1654632000-1654718399@pinespringsprep.org
SUMMARY:Kindergarten Graduation
DESCRIPTION:Join our PSPA community as we celebrate our Kindergarten Graduation!  More details to come!
URL:https://pinespringsprep.org/event/kindergarten-graduation/
CATEGORIES:School Calendar
END:VEVENT
BEGIN:VEVENT
DTSTART;VALUE=DATE:20220529
DTEND;VALUE=DATE:20220531
DTSTAMP:20260419T124122
CREATED:20220426T220330Z
LAST-MODIFIED:20220426T220330Z
UID:12351-1653854400-1653940799@pinespringsprep.org
SUMMARY:Memorial Day (No School)
DESCRIPTION:
URL:https://pinespringsprep.org/event/memorial-day-no-school/
CATEGORIES:School Calendar
END:VEVENT
BEGIN:VEVENT
DTSTART;TZID=America/New_York:20220523T140000
DTEND;TZID=America/New_York:20220523T170000
DTSTAMP:20260419T124122
CREATED:20220426T220511Z
LAST-MODIFIED:20220522T235831Z
UID:12353-1653314400-1653325200@pinespringsprep.org
SUMMARY:Board of Directors Regular Meeting
DESCRIPTION:The Board of Directors Mtg. with be held at 6 p.m. at our Rosewood Location.
URL:https://pinespringsprep.org/event/board-of-directors-regular-meeting/
CATEGORIES:School Calendar
END:VEVENT
BEGIN:VEVENT
DTSTART;TZID=America/New_York:20220520T143000
DTEND;TZID=America/New_York:20220520T173000
DTSTAMP:20260419T124122
CREATED:20220426T220238Z
LAST-MODIFIED:20220428T180404Z
UID:12349-1653057000-1653067800@pinespringsprep.org
SUMMARY:8th Grade Formal
DESCRIPTION:Our 8th Grade Students will enjoy the 8th Grade Formal at an off campus location. 6:30-9:30\, Location: THE CLUB AT 12 OAKS\, HOLLY SPRINGS.
URL:https://pinespringsprep.org/event/8th-grade-formal/
CATEGORIES:School Calendar
END:VEVENT
BEGIN:VEVENT
DTSTART;VALUE=DATE:20220519
DTEND;VALUE=DATE:20220521
DTSTAMP:20260419T124122
CREATED:20220426T220120Z
LAST-MODIFIED:20220426T220120Z
UID:12347-1652990400-1653076799@pinespringsprep.org
SUMMARY:Remote Learning Day
DESCRIPTION:PSPA students will enjoy a remote learning day!
URL:https://pinespringsprep.org/event/remote-learning-day/
CATEGORIES:School Calendar
END:VEVENT
BEGIN:VEVENT
DTSTART;TZID=America/New_York:20220519T140000
DTEND;TZID=America/New_York:20220519T153000
DTSTAMP:20260419T124122
CREATED:20220426T221410Z
LAST-MODIFIED:20220427T220836Z
UID:12357-1652968800-1652974200@pinespringsprep.org
SUMMARY:National Junior Honor Society Induction
DESCRIPTION:NJHS induction at the Middle School\, Main Street location at 6 p.m.
URL:https://pinespringsprep.org/event/national-junior-honor-society-induction/
CATEGORIES:School Calendar
END:VEVENT
BEGIN:VEVENT
DTSTART;VALUE=DATE:20220512
DTEND;VALUE=DATE:20220514
DTSTAMP:20260419T124122
CREATED:20220426T215742Z
LAST-MODIFIED:20220426T215827Z
UID:12345-1652385600-1652471999@pinespringsprep.org
SUMMARY:Field Day (Grades K-2)
DESCRIPTION:Field Day post pandemic style for our kinders- second grade students.  Details to come.
URL:https://pinespringsprep.org/event/field-day-grades-k-2/
CATEGORIES:School Calendar
END:VEVENT
BEGIN:VEVENT
DTSTART;VALUE=DATE:20220511
DTEND;VALUE=DATE:20220513
DTSTAMP:20260419T124122
CREATED:20220426T215611Z
LAST-MODIFIED:20220426T215850Z
UID:12343-1652299200-1652385599@pinespringsprep.org
SUMMARY:Field Day (Grades 3-5)
DESCRIPTION:Field Day post pandemic style for our 3rd-5th Grade Students.  Details to come.
URL:https://pinespringsprep.org/event/field-day-grades-3-5/
CATEGORIES:School Calendar
END:VEVENT
BEGIN:VEVENT
DTSTART;VALUE=DATE:20220508
DTEND;VALUE=DATE:20220514
DTSTAMP:20260419T124122
CREATED:20220426T215429Z
LAST-MODIFIED:20220426T215429Z
UID:12341-1652040000-1652471999@pinespringsprep.org
SUMMARY:PTO Book Fair
DESCRIPTION:Join us for the PTO Book Fair.  Details to come!
URL:https://pinespringsprep.org/event/pto-book-fair/
END:VEVENT
BEGIN:VEVENT
DTSTART;VALUE=DATE:20220505
DTEND;VALUE=DATE:20220507
DTSTAMP:20260419T124122
CREATED:20220426T215308Z
LAST-MODIFIED:20220426T215308Z
UID:12339-1651780800-1651867199@pinespringsprep.org
SUMMARY:Cinco de Mayo Middle School Dance
DESCRIPTION:Middle School Students enjoy a Cinco de Mayo themed School Dance in the MS Gym!
URL:https://pinespringsprep.org/event/cinco-de-mayo-middle-school-dance/
END:VEVENT
BEGIN:VEVENT
DTSTART;VALUE=DATE:20220427
DTEND;VALUE=DATE:20220501
DTSTAMP:20260419T124122
CREATED:20220426T200340Z
LAST-MODIFIED:20220426T200340Z
UID:12334-1651089600-1651348799@pinespringsprep.org
SUMMARY:PSPA Goes to Washington\, DC!
DESCRIPTION:Our Middle School students are headed to Washington \, DC for the first time ever!
URL:https://pinespringsprep.org/event/pspa-goes-to-washington-dc/
CATEGORIES:School Calendar
END:VEVENT
BEGIN:VEVENT
DTSTART;TZID=America/New_York:20220427T040000
DTEND;TZID=America/New_York:20220427T130000
DTSTAMP:20260419T124122
CREATED:20220426T183915Z
LAST-MODIFIED:20220426T184235Z
UID:12314-1651032000-1651064400@pinespringsprep.org
SUMMARY:Fun Run
DESCRIPTION:
URL:https://pinespringsprep.org/event/fun-run/
CATEGORIES:School Calendar
END:VEVENT
BEGIN:VEVENT
DTSTART;TZID=America/New_York:20220425T140000
DTEND;TZID=America/New_York:20220425T150000
DTSTAMP:20260419T124122
CREATED:20220421T000615Z
LAST-MODIFIED:20220425T191654Z
UID:12114-1650895200-1650898800@pinespringsprep.org
SUMMARY:Monthly Board Meeting
DESCRIPTION:Board Meeting will be held at 220 Rosewood Centre Drive\, Holly Springs at 6PM.
URL:https://pinespringsprep.org/event/monthly-board-meeting-3/
CATEGORIES:Board Calendar
END:VEVENT
BEGIN:VEVENT
DTSTART;VALUE=DATE:20220408
DTEND;VALUE=DATE:20220418
DTSTAMP:20260419T124122
CREATED:20220315T225318Z
LAST-MODIFIED:20220315T230245Z
UID:10350-1649448000-1650225599@pinespringsprep.org
SUMMARY:Spring Break- No School
DESCRIPTION:
URL:https://pinespringsprep.org/event/spring-break-no-school/
CATEGORIES:School Calendar
END:VEVENT
BEGIN:VEVENT
DTSTART;VALUE=DATE:20220331
DTEND;VALUE=DATE:20220402
DTSTAMP:20260419T124122
CREATED:20220315T225318Z
LAST-MODIFIED:20220315T225947Z
UID:10351-1648756800-1648843199@pinespringsprep.org
SUMMARY:End of Quarter 3
DESCRIPTION:
URL:https://pinespringsprep.org/event/end-of-quarter-3/
CATEGORIES:School Calendar
END:VEVENT
END:VCALENDAR