BEGIN:VCALENDAR
VERSION:2.0
PRODID:-//Pine Springs Preparatory Academy - ECPv6.15.12.2//NONSGML v1.0//EN
CALSCALE:GREGORIAN
METHOD:PUBLISH
X-ORIGINAL-URL:https://pinespringsprep.org
X-WR-CALDESC:Events for Pine Springs Preparatory Academy
REFRESH-INTERVAL;VALUE=DURATION:PT1H
X-Robots-Tag:noindex
X-PUBLISHED-TTL:PT1H
BEGIN:VTIMEZONE
TZID:America/New_York
BEGIN:DAYLIGHT
TZOFFSETFROM:-0500
TZOFFSETTO:-0400
TZNAME:EDT
DTSTART:20220313T070000
END:DAYLIGHT
BEGIN:STANDARD
TZOFFSETFROM:-0400
TZOFFSETTO:-0500
TZNAME:EST
DTSTART:20221106T060000
END:STANDARD
BEGIN:DAYLIGHT
TZOFFSETFROM:-0500
TZOFFSETTO:-0400
TZNAME:EDT
DTSTART:20230312T070000
END:DAYLIGHT
BEGIN:STANDARD
TZOFFSETFROM:-0400
TZOFFSETTO:-0500
TZNAME:EST
DTSTART:20231105T060000
END:STANDARD
BEGIN:DAYLIGHT
TZOFFSETFROM:-0500
TZOFFSETTO:-0400
TZNAME:EDT
DTSTART:20240310T070000
END:DAYLIGHT
BEGIN:STANDARD
TZOFFSETFROM:-0400
TZOFFSETTO:-0500
TZNAME:EST
DTSTART:20241103T060000
END:STANDARD
END:VTIMEZONE
BEGIN:VEVENT
DTSTART;VALUE=DATE:20230915
DTEND;VALUE=DATE:20230916
DTSTAMP:20260419T125315
CREATED:20230831T173330Z
LAST-MODIFIED:20230831T173330Z
UID:16607-1694736000-1694822399@pinespringsprep.org
SUMMARY:Dress Down Day!
DESCRIPTION:It is a dress down day\, Pioneers.  Make sure to wear appropriate clothing as noted in our student handbook.
URL:https://pinespringsprep.org/event/dress-down-day-5/
CATEGORIES:School Calendar
END:VEVENT
BEGIN:VEVENT
DTSTART;VALUE=DATE:20230901
DTEND;VALUE=DATE:20230902
DTSTAMP:20260419T125315
CREATED:20230831T172536Z
LAST-MODIFIED:20230831T172651Z
UID:16599-1693526400-1693612799@pinespringsprep.org
SUMMARY:Spirit Wear Day!
DESCRIPTION:Show your spirit\, Pioneers! Level Up!
URL:https://pinespringsprep.org/event/spirit-wear-day-4/
CATEGORIES:School Calendar
END:VEVENT
BEGIN:VEVENT
DTSTART;VALUE=DATE:20230915
DTEND;VALUE=DATE:20230916
DTSTAMP:20260419T125315
CREATED:20230831T173330Z
LAST-MODIFIED:20230831T173330Z
UID:16607-1694736000-1694822399@pinespringsprep.org
SUMMARY:Dress Down Day!
DESCRIPTION:It is a dress down day\, Pioneers.  Make sure to wear appropriate clothing as noted in our student handbook.
URL:https://pinespringsprep.org/event/dress-down-day-5/
CATEGORIES:School Calendar
END:VEVENT
END:VCALENDAR